BEGIN:VCALENDAR
VERSION:2.0
PRODID:-//Arizona Mountain Region : Porsche Club of America - ECPv6.15.20//NONSGML v1.0//EN
CALSCALE:GREGORIAN
METHOD:PUBLISH
X-WR-CALNAME:Arizona Mountain Region : Porsche Club of America
X-ORIGINAL-URL:https://azm.pca.org
X-WR-CALDESC:Events for Arizona Mountain Region : Porsche Club of America
REFRESH-INTERVAL;VALUE=DURATION:PT1H
X-Robots-Tag:noindex
X-PUBLISHED-TTL:PT1H
BEGIN:VTIMEZONE
TZID:UTC
BEGIN:STANDARD
TZOFFSETFROM:+0000
TZOFFSETTO:+0000
TZNAME:UTC
DTSTART:20250101T000000
END:STANDARD
END:VTIMEZONE
BEGIN:VEVENT
DTSTART;TZID=UTC:20260416T160000
DTEND;TZID=UTC:20260416T180000
DTSTAMP:20260425T195447
CREATED:20260312T183054Z
LAST-MODIFIED:20260312T183814Z
UID:10000153-1776355200-1776362400@azm.pca.org
SUMMARY:"Taxes are Done" Happy Hour & Dinner
DESCRIPTION:Whew!  The rush to get taxes completed is done (hopefully).  Take a break from the thrash and come enjoy another installment of the AZM Region’s Happy Hour Series.  We will be visiting Triple Creek Kitchen & Spirits located at 300 N. Montezuma Street in Prescott on April 16th from 4:00 pm – 6:00 pm.  Registration is OPEN NOW so we know the expected count.  NOTE:  Space is limited to 20 attendees!  Register by 11:59 pm April 15th HERE. \nDetails\n\nThursday\, April 16th 4:00 – 6:00 pm:\n\nMeet fellow members during this drop in Happy Hour at Triple Creek Kitchen and Spirts at 300 N. Montezuma Street in Prescott.\nAttendees can enjoy the no host bar and order food on their own from the menu.\nRegister HERE.\n\n\n\nQuestions\n\nContact Jeff Boehm at jeffandbj@gmail.com or Keith Guidus at srgovrep@aol.com\n\n 
URL:https://azm.pca.org/event/taxes-are-done-happy-hour-dinner/
LOCATION:Triple Creek Kitchen & Spirits\, 300 N. Montezuma Street\, Prescott\, AZ\, 86301
CATEGORIES:Happy Hour,Social Events
ATTACH;FMTTYPE=image/png:https://azm.pca.org/wp-content/uploads/2026/03/Happy-Hour-graphic.png
END:VEVENT
END:VCALENDAR