BEGIN:VCALENDAR
VERSION:2.0
PRODID:-//Arizona Mountain Region : Porsche Club of America - ECPv6.15.20//NONSGML v1.0//EN
CALSCALE:GREGORIAN
METHOD:PUBLISH
X-WR-CALNAME:Arizona Mountain Region : Porsche Club of America
X-ORIGINAL-URL:https://azm.pca.org
X-WR-CALDESC:Events for Arizona Mountain Region : Porsche Club of America
REFRESH-INTERVAL;VALUE=DURATION:PT1H
X-Robots-Tag:noindex
X-PUBLISHED-TTL:PT1H
BEGIN:VTIMEZONE
TZID:UTC
BEGIN:STANDARD
TZOFFSETFROM:+0000
TZOFFSETTO:+0000
TZNAME:UTC
DTSTART:20220101T000000
END:STANDARD
END:VTIMEZONE
BEGIN:VEVENT
DTSTART;TZID=UTC:20230813T130000
DTEND;TZID=UTC:20230813T150000
DTSTAMP:20260422T175747
CREATED:20230721T032539Z
LAST-MODIFIED:20230721T152434Z
UID:10000049-1691931600-1691938800@azm.pca.org
SUMMARY:VIP Prescott Garage Tour
DESCRIPTION:A terrific Garage Tour of a private collection in Prescott.   $29 per person price includes tour AND lunch.  Click event for more details. ONLY 35 spots available.  Register HERE. \nDetails\n\nSunday\, August 13th:\n\nLocation available AFTER you register.  You must register prior to August 9.\nEveryone meets at the location\, NO driving route prior.\nWhat to Expect:\n\nA terrific car collection\nLunch is available from Pangaea.  Choose from Chicken Salad\, Hummus Plate\, Italian Sub\, BLT Supreme\, Sonoran Turkey Sandwich\, Veggie Delight Baguette\, All include kettle chips and chocolate chip cookie.  See menu descriptions below.\n\n\n\n\nSchedule Summary\n\n1:00 pm: Arrive at collection location\n\n\nPricing:\n\n$29.00 per person\n\n\nRegister HERE\n\nQuestions\n\nContact Jeff Boehm at jeffandbj@gmail.com\n\n \n \n 
URL:https://azm.pca.org/event/vip-prescott-garage-tour/
CATEGORIES:Car Show,Social Events
ATTACH;FMTTYPE=image/jpeg:https://azm.pca.org/wp-content/uploads/2023/07/Aug-garage-tour-small.jpg
END:VEVENT
END:VCALENDAR