BEGIN:VCALENDAR
VERSION:2.0
PRODID:-//Arizona Mountain Region : Porsche Club of America - ECPv6.15.20//NONSGML v1.0//EN
CALSCALE:GREGORIAN
METHOD:PUBLISH
X-WR-CALNAME:Arizona Mountain Region : Porsche Club of America
X-ORIGINAL-URL:https://azm.pca.org
X-WR-CALDESC:Events for Arizona Mountain Region : Porsche Club of America
REFRESH-INTERVAL;VALUE=DURATION:PT1H
X-Robots-Tag:noindex
X-PUBLISHED-TTL:PT1H
BEGIN:VTIMEZONE
TZID:America/Phoenix
BEGIN:STANDARD
TZOFFSETFROM:-0700
TZOFFSETTO:-0700
TZNAME:MST
DTSTART:20220101T000000
END:STANDARD
END:VTIMEZONE
BEGIN:VEVENT
DTSTART;TZID=America/Phoenix:20230311T103000
DTEND;TZID=America/Phoenix:20230311T113000
DTSTAMP:20260423T160410
CREATED:20230308T180239Z
LAST-MODIFIED:20230308T180623Z
UID:10000038-1678530600-1678534200@azm.pca.org
SUMMARY:Yavapai Euros\, March
DESCRIPTION:Note: This is a not an official AZM Region-PCA event. Event is listed as a courtesy for AZM members. \nYavapai Euros is a Cars & Coffee event and happens the Second  Saturday of every month\, at different locations every month in the Prescott\, AZ area.  Organized by Prescott Cars & Coffee \nThe organizer is requesting an email indicating your attendance for the March event
URL:https://azm.pca.org/event/yavapai-euros/
LOCATION:567 EZ ST Prescott\, AZ 86301\, 567 EZ St\, Prescott\, 86301
CATEGORIES:Cruz-In
ATTACH;FMTTYPE=image/jpeg:https://azm.pca.org/wp-content/uploads/2023/03/Yavapai-Euros.jpg
ORGANIZER;CN="Prescott Cars & Coffee":MAILTO:carsandcoffeeprescott@gmail.com
END:VEVENT
BEGIN:VEVENT
DTSTART;TZID=America/Phoenix:20230325T070000
DTEND;TZID=America/Phoenix:20230325T110000
DTSTAMP:20260423T160410
CREATED:20221215T005504Z
LAST-MODIFIED:20230123T221433Z
UID:10000006-1679727600-1679742000@azm.pca.org
SUMMARY:Sedona Cruz-In\, March
DESCRIPTION:Note: This is a not an official AZM Region-PCA event. Event is listed as a courtesy for AZM members. \nThe Sedona Cruz-In is similar to a Cars & Coffee event and happens the last Saturday of every month\, at The Collective in Sedona\, AZ.
URL:https://azm.pca.org/event/sedona-cruz-in-march/
LOCATION:Collective Shopping Plaza\, 7000 AZ-179\, Sedona\, AZ\, 86351\, United States
CATEGORIES:Cruz-In
ATTACH;FMTTYPE=image/jpeg:https://azm.pca.org/wp-content/uploads/2022/11/The-Collective-Sedona-Arizona.jpg
END:VEVENT
END:VCALENDAR