BEGIN:VCALENDAR
VERSION:2.0
PRODID:-//Arizona Mountain Region : Porsche Club of America - ECPv6.15.20//NONSGML v1.0//EN
CALSCALE:GREGORIAN
METHOD:PUBLISH
X-ORIGINAL-URL:https://azm.pca.org
X-WR-CALDESC:Events for Arizona Mountain Region : Porsche Club of America
REFRESH-INTERVAL;VALUE=DURATION:PT1H
X-Robots-Tag:noindex
X-PUBLISHED-TTL:PT1H
BEGIN:VTIMEZONE
TZID:America/Phoenix
BEGIN:STANDARD
TZOFFSETFROM:-0700
TZOFFSETTO:-0700
TZNAME:MST
DTSTART:20220101T000000
END:STANDARD
END:VTIMEZONE
BEGIN:VEVENT
DTSTART;TZID=America/Phoenix:20230928T080000
DTEND;TZID=America/Phoenix:20231001T170000
DTSTAMP:20260422T150216
CREATED:20230108T014741Z
LAST-MODIFIED:20230404T220217Z
UID:10000010-1695888000-1696179600@azm.pca.org
SUMMARY:Rennsport Reunion VII
DESCRIPTION:Porsche Rennsport Reunion VII is taking place September 28 through October 1 at Weathertech Raceway Laguna Seca in Monterey\, California.  Rennsport celebrates 75 years of the brand and also 60 years of the iconic 911.  From the boldest and most exciting Porsche cars yet created to the people responsible for designing them\, to the drivers who took the cars right to their limits and the race cars themselves. \nCheck out the Rennsport Website.  And\, there is a mobile app coming soon. \nConceived by racing great Brian Redman and Porsche Cars North America’s longstanding press spokesperson Bob Carlson in 2001\, Rennsport was created to celebrate the racing heritage of Porsche. They envisioned an event at which drivers and enthusiasts could gather to celebrate racing and pay tribute to the people and cars that have helped build the Porsche legacy. Since its inaugural event at Lime Rock Park in Connecticut over 20 years ago\, Rennsport has continuously grown in appeal\, drawing in 80\,000 fans over the course of the last event in 2018.
URL:https://azm.pca.org/event/rennsport-reunion-vii/
LOCATION:WeatherTech Raceway\, 1021 Monterey Salinas Hwy\, Salinas\, CA\, 93908\, United States
CATEGORIES:PCA National,Porsche AG
ATTACH;FMTTYPE=image/jpeg:https://azm.pca.org/wp-content/uploads/2023/01/Calendar-Rennsport_VI_track.jpg
END:VEVENT
END:VCALENDAR