BEGIN:VCALENDAR
VERSION:2.0
PRODID:-//Arizona Mountain Region : Porsche Club of America - ECPv6.15.20//NONSGML v1.0//EN
CALSCALE:GREGORIAN
METHOD:PUBLISH
X-ORIGINAL-URL:https://azm.pca.org
X-WR-CALDESC:Events for Arizona Mountain Region : Porsche Club of America
REFRESH-INTERVAL;VALUE=DURATION:PT1H
X-Robots-Tag:noindex
X-PUBLISHED-TTL:PT1H
BEGIN:VTIMEZONE
TZID:America/Phoenix
BEGIN:STANDARD
TZOFFSETFROM:-0700
TZOFFSETTO:-0700
TZNAME:MST
DTSTART:20220101T000000
END:STANDARD
END:VTIMEZONE
BEGIN:VEVENT
DTSTART;TZID=America/Phoenix:20230114T090000
DTEND;TZID=America/Phoenix:20230114T103000
DTSTAMP:20260422T185705
CREATED:20230111T213238Z
LAST-MODIFIED:20230119T161913Z
UID:10000011-1673686800-1673692200@azm.pca.org
SUMMARY:Porsches and Pancakes
DESCRIPTION:AZM’s “Porsches and Pancakes” happens every Second Saturday of the month.\nNo registration needed…See you there.
URL:https://azm.pca.org/event/porsches-and-pancakes/
LOCATION:Prescott Junction Restaurant\, 1121 E Sheldon Street\, Prescott\, Arizona\, 86301\, United States
CATEGORIES:Porsches and Pancakes,Social Events
ATTACH;FMTTYPE=image/gif:https://azm.pca.org/wp-content/uploads/2023/01/Calendar-PancakesAndPorsches.gif
END:VEVENT
END:VCALENDAR