BEGIN:VCALENDAR
VERSION:2.0
PRODID:-//Arizona Mountain Region : Porsche Club of America - ECPv6.15.20//NONSGML v1.0//EN
CALSCALE:GREGORIAN
METHOD:PUBLISH
X-ORIGINAL-URL:https://azm.pca.org
X-WR-CALDESC:Events for Arizona Mountain Region : Porsche Club of America
REFRESH-INTERVAL;VALUE=DURATION:PT1H
X-Robots-Tag:noindex
X-PUBLISHED-TTL:PT1H
BEGIN:VTIMEZONE
TZID:UTC
BEGIN:STANDARD
TZOFFSETFROM:+0000
TZOFFSETTO:+0000
TZNAME:UTC
DTSTART:20250101T000000
END:STANDARD
END:VTIMEZONE
BEGIN:VEVENT
DTSTART;TZID=UTC:20260509T090000
DTEND;TZID=UTC:20260509T103000
DTSTAMP:20260425T172615
CREATED:20251216T164300Z
LAST-MODIFIED:20251216T164300Z
UID:10000140-1778317200-1778322600@azm.pca.org
SUMMARY:Porsches and Pancakes
DESCRIPTION:AZM’s “Porsches and Pancakes” happens every Second Saturday of the month.\nNo registration needed…See you there.
URL:https://azm.pca.org/event/porsches-and-pancakes-41/
LOCATION:Prescott Junction Restaurant\, 1121 E Sheldon Street\, Prescott\, Arizona\, 86301\, United States
CATEGORIES:Porsches and Pancakes,Social Events
ATTACH;FMTTYPE=image/jpeg:https://azm.pca.org/wp-content/uploads/2024/12/Porsches-and-Pancakes-for-featured-image.jpg
END:VEVENT
BEGIN:VEVENT
DTSTART;TZID=UTC:20260513T081500
DTEND;TZID=UTC:20260513T184500
DTSTAMP:20260425T172615
CREATED:20260424T003143Z
LAST-MODIFIED:20260424T023729Z
UID:10000161-1778660100-1778697900@azm.pca.org
SUMMARY:Van Tour to Phoenix Dealers and Shops
DESCRIPTION:This is a unique opportunity limited to 14 AZM Members to relax and enjoy a chauffeured driven day to Phoenix visiting the new Porsche Arrowhead\, McIlvain Motors\, Porsche North Scottsdale and Avant-garde Collection.  Participants will travel in a Mercedes Sprinter Van.  See more about each stop below on the schedule.  The cost is $75 per person and includes lunch and transportation from and returning to Prescott.  Attendees are welcome to bring their own beverages and snacks for the trip too.  Use of onboard ice cooler and bottled water are also included.  Register Now HERE.  Registration closes on May 10th or when 14 registrations are met. \nDetails\n\nWednesday\, May 13th – 8:15 am – 6:45 pm\nGeneral Timing – Meeting point plus all stops and venue arrival:\n\n8:15 am: Meet at Jasper J Club parking lot — 4700 N Still Well Pkwy\, Prescott Valley\, AZ 86314\n8:30 am: Depart from Jasper J Club parking lot\n10:30 am: Arrive Porsche Arrowhead — 8330 W Bell Rd\, Glendale\, AZ 85308\n\nTour\, meet the staff\, and lunch12:30 pm: Arrive McIlvain Motors —  939 S 48th St #215\, Tempe\, AZ 85281\n\nTour\, meet the staff\n\n\n\n\n2:30 pm: Arrive Porsche Scottsdale —  7077 E Princess Dr\, Phoenix\, AZ 85054\n\nTour\, meet the staff\n\n\n4:00 pm: Arrive Avant-garde — 9208 E Verde Grove View\, Scottsdale\, AZ 85255\n\nTour\, meet the staff\n\n\n5:00 Head for Prescott\n\n\n$75.00 per person includes lunch\nRegister HERE\n\nQuestions\n\nContact E.C. Mueller at ecmueller7@gmail.com
URL:https://azm.pca.org/event/van-tour-to-phoenix-dealers-and-shops/
CATEGORIES:Shop Tour
ATTACH;FMTTYPE=image/png:https://azm.pca.org/wp-content/uploads/2026/04/Van-Tour-graphic-featured.png
END:VEVENT
BEGIN:VEVENT
DTSTART;TZID=UTC:20260514T093000
DTEND;TZID=UTC:20260514T150000
DTSTAMP:20260425T172615
CREATED:20260401T010446Z
LAST-MODIFIED:20260416T175729Z
UID:10000156-1778751000-1778770800@azm.pca.org
SUMMARY:Fly Away to Payson
DESCRIPTION:Join members from throughout AZM Region for this weekday escape to Payson for a beautiful drive and fun lunch at Crosswinds Airport. “The Mogollon Rim provides breathtaking views overlooking an expansive forest of pine trees.  The rim is a true geological wonder hosting sedimentary\, volcanic and metamorphic rock dating back to the Precambrian era” – and the road is fantastic!  Register HERE! \nDetails\n\nOn Thursday May 14th we will depart the Maverick Gas Station at 1341 Prescott Country Club Blvd. off Highway 69 in Dewey.  Driver’s meeting at 10:00 am and departure at 10:15 am.  Please arrive no later than 9:50 am for the driver’s meeting and signing of waivers so we can depart on time.\nThere will be a stop at the Burger King in Camp Verde (365 N. Goswick Way) at 10:45 am for Verde Valley and other members to join the drive.  Driver’s meeting is at 11:00 am We will depart Burger King by 11:15.\nThe group will proceed to the Crosswinds Airport at 800 W. Airport Road in Payson for lunch with an arrival time estimated to be around Noon.\nRegister HERE.\n\nQuestions\n\nContact Jeff Boehm at jeffandbj@gmail.com\n\nEvent Requirements\n\nPlease be on time for driver’s meetings and to sign waivers\nOrder off Regular Menu with payment for lunch by individual check.\nThere is no fee for this event; however\, participants will be responsible for their own entrance fees at other facilities beyond the Crosswinds Restaurant their meal expenses.\nThis is event is limited to 24 attendees.
URL:https://azm.pca.org/event/fly-away-to-payson-2/
LOCATION:Crosswinds Airport Payson\, 800 W. Airport Road\, Payson\, Arizona
CATEGORIES:Driving Tour,Social Events
ATTACH;FMTTYPE=image/png:https://azm.pca.org/wp-content/uploads/2025/05/Crosswinds-Airport-graphic-photo-featured-image.png
END:VEVENT
BEGIN:VEVENT
DTSTART;TZID=UTC:20260606T090000
DTEND;TZID=UTC:20260606T160000
DTSTAMP:20260425T172615
CREATED:20260401T155015Z
LAST-MODIFIED:20260401T155015Z
UID:10000159-1780736400-1780761600@azm.pca.org
SUMMARY:AZM Region 4th Spring Autocross
DESCRIPTION:The very popular Arizona Mountain Region Autocross is tentatively scheduled for June 6\, 2026.  We expect to have confirmation from the Findlay Toyota Center in late April\, early May.  Come out and learn the capabilities of your Porsche!  Registration and additional information will be available as soon as the date is confirmed. \nTentative Details\n\nSaturday June 6\, 2026\n\nCourse Setup: 6:00 am\nRegistration opens: 7:30 am\nDriver’s Meeting 9:00 am\nCars on course: 9:30 am – 4:00 pm\n\n\nFindlay Center parking lot\, Prescott Valley\, AZ\nPricing TBD per participant and includes lunch.\nInstructors will be available for first-time drivers! Loaner helmets will also be available if you don’t have your own. Helmets must be rated Snell 2010  or newer.\nLearn more about Autocrossing!  Click HERE for an overview\nRegistration information coming soon\n\nWhat to Expect\n\nThis is a great opportunity to experience the fun of auto crossing your Porsche. Instructors will be available for first-time drivers! Loaner helmets will also be available if you don’t have your own.  All the details can be found on the registration link once it becomes available.  Be sure to register once the link is available because there is limited space for only 40 drivers.\n\nQuestions & Volunteering for set-up\, operations & breakdown\n\nJeff Swain: jsracerx@protonmail.com\, or Jeff Boehm: jeffandbj@gmail.com\n\n 
URL:https://azm.pca.org/event/azm-region-4th-spring-autocross/
LOCATION:Findlay Toyota Center\, 3201 North Main\, Prescott Valley\, AZ
CATEGORIES:Autocross
ATTACH;FMTTYPE=image/jpeg:https://azm.pca.org/wp-content/uploads/2026/04/Summer-2026-AX-featured-photo.jpg
END:VEVENT
BEGIN:VEVENT
DTSTART;TZID=UTC:20260613T090000
DTEND;TZID=UTC:20260613T103000
DTSTAMP:20260425T172615
CREATED:20251216T164413Z
LAST-MODIFIED:20251216T164413Z
UID:10000141-1781341200-1781346600@azm.pca.org
SUMMARY:Porsches and Pancakes
DESCRIPTION:AZM’s “Porsches and Pancakes” happens every Second Saturday of the month.\nNo registration needed…See you there.
URL:https://azm.pca.org/event/porsches-and-pancakes-42/
LOCATION:Prescott Junction Restaurant\, 1121 E Sheldon Street\, Prescott\, Arizona\, 86301\, United States
CATEGORIES:Porsches and Pancakes,Social Events
ATTACH;FMTTYPE=image/jpeg:https://azm.pca.org/wp-content/uploads/2024/12/Porsches-and-Pancakes-for-featured-image.jpg
END:VEVENT
BEGIN:VEVENT
DTSTART;TZID=UTC:20260618T170000
DTEND;TZID=UTC:20260618T193000
DTSTAMP:20260425T172615
CREATED:20260325T153229Z
LAST-MODIFIED:20260325T153338Z
UID:10000155-1781802000-1781811000@azm.pca.org
SUMMARY:Superb Food Co. at the Jasper Clubhouse - Club Dinner
DESCRIPTION:A relaxing summer evening at the Jasper Clubhouse in Prescott Valley enjoying beverages and food from the Superb Food Co. at this beautiful outdoor setting.  This has been a club favorite for the past couple of years and we are pleased to offer it once again.  Registration information coming soon. \nDetails\n\nThursday\, June 18th 5:00 pm:\n\nAll participants meet at Superb Food Co. at the Jasper Clubhouse. 4700 N. Stillwell Pkwy.  Prescott Valley\, Arizona 86314.\n\n\nWhat to Expect:\n\nParticipants order off Menu and pay individually\n\n\nRegistration information coming soon.\n\nQuestions\n\nContact Jeff Boehm at jeffandbj@gmail.com or Jeff Swain at jsracerx@protonmail.com\n\n 
URL:https://azm.pca.org/event/superb-food-co-at-the-jasper-clubhouse-club-dinner-3/
LOCATION:Superb Food Co. at Jasper Clubhouse\, 4700 N. Stillwell Pkwy.\, Prescott Valley\, AZ\, 86314
CATEGORIES:Social Events
ATTACH;FMTTYPE=image/jpeg:https://azm.pca.org/wp-content/uploads/2024/04/Superb-Food-Co.jpg
END:VEVENT
BEGIN:VEVENT
DTSTART;TZID=UTC:20260711T090000
DTEND;TZID=UTC:20260711T103000
DTSTAMP:20260425T172615
CREATED:20251216T164511Z
LAST-MODIFIED:20251216T164511Z
UID:10000142-1783760400-1783765800@azm.pca.org
SUMMARY:Porsches and Pancakes
DESCRIPTION:AZM’s “Porsches and Pancakes” happens every Second Saturday of the month.\nNo registration needed…See you there.
URL:https://azm.pca.org/event/porsches-and-pancakes-43/
LOCATION:Prescott Junction Restaurant\, 1121 E Sheldon Street\, Prescott\, Arizona\, 86301\, United States
CATEGORIES:Porsches and Pancakes,Social Events
ATTACH;FMTTYPE=image/jpeg:https://azm.pca.org/wp-content/uploads/2024/12/Porsches-and-Pancakes-for-featured-image.jpg
END:VEVENT
BEGIN:VEVENT
DTSTART;TZID=UTC:20260725T090000
DTEND;TZID=UTC:20260725T140000
DTSTAMP:20260425T172615
CREATED:20260401T164023Z
LAST-MODIFIED:20260401T165903Z
UID:10000160-1784970000-1784988000@azm.pca.org
SUMMARY:Fort Tuthill Bring Your Own  Picnic
DESCRIPTION:It’s time to cool off with a drive up north through beautiful Oak Creek Canyon and a bring your own lunch to Fort Tuthill Park in Flagstaff.  More details are coming soon!\nDetails\n\nSaturday July 25\, 2026 – 9:00 am – 2:00 pm\nFort Tuthill Park – Cochise Ramada\nBring you own lunch – Pot Luck\nMeeting times and place to come (We will have a meeting time and place for Prescott and Verde Valley members for the drive north.  Flagstaff and other area members will have a rendezvous time at Fort Tuthill.\nRegistration information to come\n\nQuestions \n\nContact Jeff Boehm at jeffandbj@gmail.com\n\n 
URL:https://azm.pca.org/event/fort-tuthill-bring-your-own-picnic/
LOCATION:Fort Tuttle Park\, 2446 Ft Tuthill Loop\, Flagstaff\, AZ\, 86005
CATEGORIES:Driving Tour,Member Picnic,Social Events
ATTACH;FMTTYPE=image/png:https://azm.pca.org/wp-content/uploads/2026/04/Ramada-2.png
END:VEVENT
BEGIN:VEVENT
DTSTART;TZID=UTC:20260808T090000
DTEND;TZID=UTC:20260808T103000
DTSTAMP:20260425T172615
CREATED:20251216T164553Z
LAST-MODIFIED:20251216T164553Z
UID:10000143-1786179600-1786185000@azm.pca.org
SUMMARY:Porsches and Pancakes
DESCRIPTION:AZM’s “Porsches and Pancakes” happens every Second Saturday of the month.\nNo registration needed…See you there.
URL:https://azm.pca.org/event/porsches-and-pancakes-44/
LOCATION:Prescott Junction Restaurant\, 1121 E Sheldon Street\, Prescott\, Arizona\, 86301\, United States
CATEGORIES:Porsches and Pancakes,Social Events
ATTACH;FMTTYPE=image/jpeg:https://azm.pca.org/wp-content/uploads/2024/12/Porsches-and-Pancakes-for-featured-image.jpg
END:VEVENT
BEGIN:VEVENT
DTSTART;TZID=UTC:20260912T090000
DTEND;TZID=UTC:20260912T103000
DTSTAMP:20260425T172615
CREATED:20251216T164631Z
LAST-MODIFIED:20251216T164631Z
UID:10000144-1789203600-1789209000@azm.pca.org
SUMMARY:Porsches and Pancakes
DESCRIPTION:AZM’s “Porsches and Pancakes” happens every Second Saturday of the month.\nNo registration needed…See you there.
URL:https://azm.pca.org/event/porsches-and-pancakes-45/
LOCATION:Prescott Junction Restaurant\, 1121 E Sheldon Street\, Prescott\, Arizona\, 86301\, United States
CATEGORIES:Porsches and Pancakes,Social Events
ATTACH;FMTTYPE=image/jpeg:https://azm.pca.org/wp-content/uploads/2024/12/Porsches-and-Pancakes-for-featured-image.jpg
END:VEVENT
BEGIN:VEVENT
DTSTART;TZID=UTC:20260913T110000
DTEND;TZID=UTC:20260913T140000
DTSTAMP:20260425T172615
CREATED:20260401T153231Z
LAST-MODIFIED:20260423T234929Z
UID:10000157-1789297200-1789308000@azm.pca.org
SUMMARY:New Member Picnic
DESCRIPTION:The New Member picnic is for all NEW and current Club Members.  This is a staple annual event for the Arizona Mountain Region.  Registration information coming early summer.\nDetails\n\nSunday September 13\, 2026 – 11:00 am – 2:00 pm\nGoldwater Lake Ramada at Goldwater Lake\,\nPrice TBA Per person  — BBQ buffet\nRegistration information to come\n\nMenu – Lunch Offerings\n\nTENTATIVE: BBQ buffet catered by “Up In Smoke” includes brisket\, pulled pork\, baked beans\, potato salad.\n\nActivities\n\nRaffle prizes\, 50/50 raffle and more\n\nQuestions & Volunteering for set-up & breakdown\n\nContact Jeff Boehm at jeffandbj@gmail.com\n\n 
URL:https://azm.pca.org/event/new-member-picnic/
LOCATION:Goldwater Lake Prescott\, AZ\, 2900 S. Goldwater Lake Road\, Prescott\, AZ\, United States
CATEGORIES:Member Picnic,Social Events
ATTACH;FMTTYPE=image/jpeg:https://azm.pca.org/wp-content/uploads/2025/01/Yellow-and-Red-Retro-BBQ-Party-Event-Flyer-featured-image.jpg
END:VEVENT
BEGIN:VEVENT
DTSTART;TZID=UTC:20261010T090000
DTEND;TZID=UTC:20261010T103000
DTSTAMP:20260425T172615
CREATED:20251216T164714Z
LAST-MODIFIED:20251216T164714Z
UID:10000145-1791622800-1791628200@azm.pca.org
SUMMARY:Porsches and Pancakes
DESCRIPTION:AZM’s “Porsches and Pancakes” happens every Second Saturday of the month.\nNo registration needed…See you there.
URL:https://azm.pca.org/event/porsches-and-pancakes-46/
LOCATION:Prescott Junction Restaurant\, 1121 E Sheldon Street\, Prescott\, Arizona\, 86301\, United States
CATEGORIES:Porsches and Pancakes,Social Events
ATTACH;FMTTYPE=image/jpeg:https://azm.pca.org/wp-content/uploads/2024/12/Porsches-and-Pancakes-for-featured-image.jpg
END:VEVENT
BEGIN:VEVENT
DTSTART;TZID=UTC:20261107T100000
DTEND;TZID=UTC:20261107T140000
DTSTAMP:20260425T172615
CREATED:20260401T035031Z
LAST-MODIFIED:20260401T035031Z
UID:10000158-1794045600-1794060000@azm.pca.org
SUMMARY:2026 Veteran's Charity Event
DESCRIPTION:This is an outstanding event now in year four and is so satisfying putting smiles on the faces of the local veterans.  The ride alongs the club began in 2024 are a huge hit and the fundraising the club does provides Costco gift cards to the vets staying the domicile.  Donation information\, registering to give rides\, and additional details are coming soon. \nDetails\n\nSaturday\, November 7th – 10:00 am – 2:00 pm\nNorthern Arizona VA Care Center — Turn into the center and go straight to 1st parking lot on the left to join the event.\nTENTATIVE Schedule\n\n10:00am for “Drive Along” Volunteers to assemble\nLunch at 11:30 am -1:00 pm\nEvent ends at 2:00 pm\n\n\n\nThis is our signature event of the year\, hoping to see you there. Watch our progress! \nQuestions\n\nContact Lorraine Friedman at friedmanlorrainem@gmail.com
URL:https://azm.pca.org/event/2026-veterans-charity-event/
LOCATION:Northern Arizona VA Care Center\, 500 Highway 89 North\, Prescott\, AZ\, 86313\, United States
CATEGORIES:Charitable Event
ATTACH;FMTTYPE=image/jpeg:https://azm.pca.org/wp-content/uploads/2023/08/Veterans-giving-November-2023-flyer.jpg-small.jpg
END:VEVENT
BEGIN:VEVENT
DTSTART;TZID=UTC:20261114T090000
DTEND;TZID=UTC:20261114T103000
DTSTAMP:20260425T172615
CREATED:20251216T164755Z
LAST-MODIFIED:20251216T164755Z
UID:10000146-1794646800-1794652200@azm.pca.org
SUMMARY:Porsches and Pancakes
DESCRIPTION:AZM’s “Porsches and Pancakes” happens every Second Saturday of the month.\nNo registration needed…See you there.
URL:https://azm.pca.org/event/porsches-and-pancakes-47/
LOCATION:Prescott Junction Restaurant\, 1121 E Sheldon Street\, Prescott\, Arizona\, 86301\, United States
CATEGORIES:Porsches and Pancakes,Social Events
ATTACH;FMTTYPE=image/jpeg:https://azm.pca.org/wp-content/uploads/2024/12/Porsches-and-Pancakes-for-featured-image.jpg
END:VEVENT
BEGIN:VEVENT
DTSTART;TZID=UTC:20261212T090000
DTEND;TZID=UTC:20261212T103000
DTSTAMP:20260425T172615
CREATED:20251216T164841Z
LAST-MODIFIED:20251216T164841Z
UID:10000147-1797066000-1797071400@azm.pca.org
SUMMARY:Porsches and Pancakes
DESCRIPTION:AZM’s “Porsches and Pancakes” happens every Second Saturday of the month.\nNo registration needed…See you there.
URL:https://azm.pca.org/event/porsches-and-pancakes-48/
LOCATION:Prescott Junction Restaurant\, 1121 E Sheldon Street\, Prescott\, Arizona\, 86301\, United States
CATEGORIES:Porsches and Pancakes,Social Events
ATTACH;FMTTYPE=image/jpeg:https://azm.pca.org/wp-content/uploads/2024/12/Porsches-and-Pancakes-for-featured-image.jpg
END:VEVENT
BEGIN:VEVENT
DTSTART;TZID=UTC:20261212T170000
DTEND;TZID=UTC:20261212T210000
DTSTAMP:20260425T172615
CREATED:20251222T013728Z
LAST-MODIFIED:20251222T013728Z
UID:10000148-1797094800-1797109200@azm.pca.org
SUMMARY:AZM Region Holiday Party
DESCRIPTION:We are excited to secure the Capital Canyon Club for the AZM Region Holiday Party for the third year!  And\, once again we will support Toys for Tots by everyone bringing an unwrapped gift.  More information to come during 2026 including pricing and registration details.  Note this event sells out each year and is limited to 65 people. \nDetails\n\nSaturday December 12th: 5:00 pm – 9:00 pm at the Capital Canyon Club in Prescott.\nMore information to come\n\nMenu\n\nTBA\n\n\nQuestions & Volunteering for set-up & breakdown\n\n\nTBA\n\n 
URL:https://azm.pca.org/event/azm-region-holiday-party-4/
LOCATION:Capital Canyon Club\, 2060 Golf Club Lane\, Prescott\, AZ\, 86303
CATEGORIES:Holiday Party,Social Events
ATTACH;FMTTYPE=image/png:https://azm.pca.org/wp-content/uploads/2024/04/Save-the-Date-2024-Holiday-party-cropped.png
END:VEVENT
END:VCALENDAR