BEGIN:VCALENDAR
VERSION:2.0
PRODID:-//Arizona Mountain Region : Porsche Club of America - ECPv6.15.20//NONSGML v1.0//EN
CALSCALE:GREGORIAN
METHOD:PUBLISH
X-ORIGINAL-URL:https://azm.pca.org
X-WR-CALDESC:Events for Arizona Mountain Region : Porsche Club of America
REFRESH-INTERVAL;VALUE=DURATION:PT1H
X-Robots-Tag:noindex
X-PUBLISHED-TTL:PT1H
BEGIN:VTIMEZONE
TZID:UTC
BEGIN:STANDARD
TZOFFSETFROM:+0000
TZOFFSETTO:+0000
TZNAME:UTC
DTSTART:20250101T000000
END:STANDARD
END:VTIMEZONE
BEGIN:VEVENT
DTSTART;TZID=UTC:20260212T090000
DTEND;TZID=UTC:20260212T220000
DTSTAMP:20260425T210119
CREATED:20260108T052808Z
LAST-MODIFIED:20260108T053842Z
UID:10000149-1770886800-1770933600@azm.pca.org
SUMMARY:Lake Havasu Winter Blast Fireworks Display 2026
DESCRIPTION:This is an exciting new event for the members to enjoy.  A drive to Lake Havasu City with an afternoon dinner at Angelina’s Italian Kitchen and evening fireworks watching on your own.  The fireworks are part of an industry trade show of fireworks companies pitching events\, venues and more to sign contracts with their companies.  Register Now HERE. \nDetails\n\n\n\nThursday\, February 12\n\n10:15 am Driver’s meeting and sign waivers at Pangea Bakery located at Gail Gardner Way and Iron Springs .Road\n10:30 am Departure\n12:45 pm Arrive Salome Market\, 67230 US-60\, Salome\, AZ\, for a 30 minute gas and restroom break\n2:30 pm Arrive at the Holiday Inn Express Lake Havasu City-London Bridge 40 London Bridge Road\, Lake Havasu\, Arizona 86403\n3:30 pm Depart for Angelina’s Italian Kitchen\, 1530 El Camino Dr\, Lake Havasu City\, AZ 86403.  See the menu HERE.\nTBD pm Departure for the fireworks\n\nMore information about the shows HERE and HERE\n\n\n\n\nMap of Route HERE\nRegistration is open HERE.\n\n\n\nHotel\n\nThe Club has 10 rooms blocked.  Book early because they will go fast! To make your reservation just click HERE! or you can call 928-733-6388. The group name is AZ Mountain Region Porsche Club.\nRoom block ends 02/01/2026\n\nQuestions \n\nContact Jeff Boehm at jeffandbj@gmail.com\n\n \n  \n 
URL:https://azm.pca.org/event/lake-havasu-winter-blast-fireworks-display-2025/
CATEGORIES:Driving Tour,Social Events
ATTACH;FMTTYPE=image/png:https://azm.pca.org/wp-content/uploads/2026/01/Lake-Havasu-small-banner.png
END:VEVENT
BEGIN:VEVENT
DTSTART;TZID=UTC:20260214T090000
DTEND;TZID=UTC:20260214T103000
DTSTAMP:20260425T210119
CREATED:20251216T163818Z
LAST-MODIFIED:20251216T163828Z
UID:10000137-1771059600-1771065000@azm.pca.org
SUMMARY:Porsches and Pancakes
DESCRIPTION:AZM’s “Porsches and Pancakes” happens every Second Saturday of the month.\nNo registration needed…See you there.
URL:https://azm.pca.org/event/porsches-and-pancakes-38/
LOCATION:Prescott Junction Restaurant\, 1121 E Sheldon Street\, Prescott\, Arizona\, 86301\, United States
CATEGORIES:Porsches and Pancakes,Social Events
ATTACH;FMTTYPE=image/jpeg:https://azm.pca.org/wp-content/uploads/2024/12/Porsches-and-Pancakes-for-featured-image.jpg
END:VEVENT
END:VCALENDAR