BEGIN:VCALENDAR
VERSION:2.0
PRODID:-//Arizona Mountain Region : Porsche Club of America - ECPv6.15.20//NONSGML v1.0//EN
CALSCALE:GREGORIAN
METHOD:PUBLISH
X-WR-CALNAME:Arizona Mountain Region : Porsche Club of America
X-ORIGINAL-URL:https://azm.pca.org
X-WR-CALDESC:Events for Arizona Mountain Region : Porsche Club of America
REFRESH-INTERVAL;VALUE=DURATION:PT1H
X-Robots-Tag:noindex
X-PUBLISHED-TTL:PT1H
BEGIN:VTIMEZONE
TZID:UTC
BEGIN:STANDARD
TZOFFSETFROM:+0000
TZOFFSETTO:+0000
TZNAME:UTC
DTSTART:20250101T000000
END:STANDARD
END:VTIMEZONE
BEGIN:VEVENT
DTSTART;TZID=UTC:20260606T090000
DTEND;TZID=UTC:20260606T160000
DTSTAMP:20260425T184725
CREATED:20260401T155015Z
LAST-MODIFIED:20260401T155015Z
UID:10000159-1780736400-1780761600@azm.pca.org
SUMMARY:AZM Region 4th Spring Autocross
DESCRIPTION:The very popular Arizona Mountain Region Autocross is tentatively scheduled for June 6\, 2026.  We expect to have confirmation from the Findlay Toyota Center in late April\, early May.  Come out and learn the capabilities of your Porsche!  Registration and additional information will be available as soon as the date is confirmed. \nTentative Details\n\nSaturday June 6\, 2026\n\nCourse Setup: 6:00 am\nRegistration opens: 7:30 am\nDriver’s Meeting 9:00 am\nCars on course: 9:30 am – 4:00 pm\n\n\nFindlay Center parking lot\, Prescott Valley\, AZ\nPricing TBD per participant and includes lunch.\nInstructors will be available for first-time drivers! Loaner helmets will also be available if you don’t have your own. Helmets must be rated Snell 2010  or newer.\nLearn more about Autocrossing!  Click HERE for an overview\nRegistration information coming soon\n\nWhat to Expect\n\nThis is a great opportunity to experience the fun of auto crossing your Porsche. Instructors will be available for first-time drivers! Loaner helmets will also be available if you don’t have your own.  All the details can be found on the registration link once it becomes available.  Be sure to register once the link is available because there is limited space for only 40 drivers.\n\nQuestions & Volunteering for set-up\, operations & breakdown\n\nJeff Swain: jsracerx@protonmail.com\, or Jeff Boehm: jeffandbj@gmail.com\n\n 
URL:https://azm.pca.org/event/azm-region-4th-spring-autocross/
LOCATION:Findlay Toyota Center\, 3201 North Main\, Prescott Valley\, AZ
CATEGORIES:Autocross
ATTACH;FMTTYPE=image/jpeg:https://azm.pca.org/wp-content/uploads/2026/04/Summer-2026-AX-featured-photo.jpg
END:VEVENT
BEGIN:VEVENT
DTSTART;TZID=UTC:20260613T090000
DTEND;TZID=UTC:20260613T103000
DTSTAMP:20260425T184725
CREATED:20251216T164413Z
LAST-MODIFIED:20251216T164413Z
UID:10000141-1781341200-1781346600@azm.pca.org
SUMMARY:Porsches and Pancakes
DESCRIPTION:AZM’s “Porsches and Pancakes” happens every Second Saturday of the month.\nNo registration needed…See you there.
URL:https://azm.pca.org/event/porsches-and-pancakes-42/
LOCATION:Prescott Junction Restaurant\, 1121 E Sheldon Street\, Prescott\, Arizona\, 86301\, United States
CATEGORIES:Porsches and Pancakes,Social Events
ATTACH;FMTTYPE=image/jpeg:https://azm.pca.org/wp-content/uploads/2024/12/Porsches-and-Pancakes-for-featured-image.jpg
END:VEVENT
BEGIN:VEVENT
DTSTART;TZID=UTC:20260618T170000
DTEND;TZID=UTC:20260618T193000
DTSTAMP:20260425T184725
CREATED:20260325T153229Z
LAST-MODIFIED:20260325T153338Z
UID:10000155-1781802000-1781811000@azm.pca.org
SUMMARY:Superb Food Co. at the Jasper Clubhouse - Club Dinner
DESCRIPTION:A relaxing summer evening at the Jasper Clubhouse in Prescott Valley enjoying beverages and food from the Superb Food Co. at this beautiful outdoor setting.  This has been a club favorite for the past couple of years and we are pleased to offer it once again.  Registration information coming soon. \nDetails\n\nThursday\, June 18th 5:00 pm:\n\nAll participants meet at Superb Food Co. at the Jasper Clubhouse. 4700 N. Stillwell Pkwy.  Prescott Valley\, Arizona 86314.\n\n\nWhat to Expect:\n\nParticipants order off Menu and pay individually\n\n\nRegistration information coming soon.\n\nQuestions\n\nContact Jeff Boehm at jeffandbj@gmail.com or Jeff Swain at jsracerx@protonmail.com\n\n 
URL:https://azm.pca.org/event/superb-food-co-at-the-jasper-clubhouse-club-dinner-3/
LOCATION:Superb Food Co. at Jasper Clubhouse\, 4700 N. Stillwell Pkwy.\, Prescott Valley\, AZ\, 86314
CATEGORIES:Social Events
ATTACH;FMTTYPE=image/jpeg:https://azm.pca.org/wp-content/uploads/2024/04/Superb-Food-Co.jpg
END:VEVENT
END:VCALENDAR