BEGIN:VCALENDAR
VERSION:2.0
PRODID:-//Arizona Mountain Region : Porsche Club of America - ECPv6.15.20//NONSGML v1.0//EN
CALSCALE:GREGORIAN
METHOD:PUBLISH
X-WR-CALNAME:Arizona Mountain Region : Porsche Club of America
X-ORIGINAL-URL:https://azm.pca.org
X-WR-CALDESC:Events for Arizona Mountain Region : Porsche Club of America
REFRESH-INTERVAL;VALUE=DURATION:PT1H
X-Robots-Tag:noindex
X-PUBLISHED-TTL:PT1H
BEGIN:VTIMEZONE
TZID:UTC
BEGIN:STANDARD
TZOFFSETFROM:+0000
TZOFFSETTO:+0000
TZNAME:UTC
DTSTART:20240101T000000
END:STANDARD
END:VTIMEZONE
BEGIN:VEVENT
DTSTART;TZID=UTC:20250513T100000
DTEND;TZID=UTC:20250515T130000
DTSTAMP:20260420T140856
CREATED:20241222T225358Z
LAST-MODIFIED:20250428T190810Z
UID:10000114-1747130400-1747314000@azm.pca.org
SUMMARY:Alpine Tour
DESCRIPTION:Drive some of the most dynamic roads in all of Arizona!  One of the most popular events the club hosts.  Registration is now OPEN! \nDetails\n\nOn Tuesday May 13th we will depart the Maverick Gas Station on Highway 69 in Dewey at 9:00 am. Please arrive by 8:30 am so we can get waivers signed and depart on time.\nThere will be a stop at the Burger King in Camp Verde at 9:30 am for Verde Valley and other members to join the drive.\nWe will be stopping in Show Low for lunch.\nRegistration is now open HERE\n\nHotel\n\nWe have rooms blocked 12 rooms at various prices at the Long Shadow Lodge (Formerly the Tal Wi Wi Lodge) which will be held until May 6th or until they’re all booked. Please call to make your room reservation now\, as this trip will fill up quickly.\nFor reservations\, call the Long Shadow Lodge (Monday – Friday from 9:00 to 4:00) at 928-277-4422. Let them know that you are with the Arizona Mountain Porsche Club group. Payment for one night is collected up front with the balance due a few days before arrival. Do not book online as you will not get the discount.\n\nQuestions\n\nContact Jeff Boehm at jeffandbj@gmail.com\n\nEvent Requirements\n\nRegister HERE\n\n  \n 
URL:https://azm.pca.org/event/alpine-tour/
LOCATION:Arizona
CATEGORIES:Driving Tour,Social Events
ATTACH;FMTTYPE=image/png:https://azm.pca.org/wp-content/uploads/2023/01/Alpine-drive-photo-2022-resized.png
END:VEVENT
BEGIN:VEVENT
DTSTART;TZID=UTC:20250527T093000
DTEND;TZID=UTC:20250527T150000
DTSTAMP:20260420T140856
CREATED:20250501T180645Z
LAST-MODIFIED:20250501T181003Z
UID:10000121-1748338200-1748358000@azm.pca.org
SUMMARY:Fly Away to Payson
DESCRIPTION:This is a fun weekday escape to Payson for a beautiful drive and fun lunch at Crosswinds Airport. “The Mogollon Rim provides breathtaking views overlooking an expansive forest of pine trees.  The rim is a true geological wonder hosting sedimentary\, volcanic and metamorphic rock dating back to the Precambrian era” – and the road is fantastic!  Register NOW HERE! \nDetails\n\nOn Tuesday May 27th we will depart the Maverick Gas Station at 1341 Prescott Country Club Blvd. off Highway 69 in Dewey at 9:45 am. Please arrive no later than 9:30 am for the driver’s meeting and signing of waivers so we can depart on time.\nThere will be a stop at the Burger King in Camp Verde (365 N. Goswick Way) at 10:15 am for Verde Valley and other members to join the drive.  We will depart Burger King at 10:45.\nThe group will proceed to the Crosswinds Airport at 800 W. Airport Road in Payson for lunch with an arrival time estimated to be around Noon.\nRegistration is now open HERE\n\nQuestions\n\nContact Jeff Boehm at jeffandbj@gmail.com\n\nEvent Requirements\n\nPlease be on time for driver’s meetings and to sign waivers\nOrder off Regular Menu with payment for lunch by individual check.\nThere is no fee for this event; however\, participants will be responsible for their own entrance fees at other facilities beyond the Crosswinds Restaurant their meal expenses.\nPlease register no later than May 22nd so we have an accurate headcount for lunch.\nThis is event is limited to 28 attendees.\nRegister HERE\n\n  \n 
URL:https://azm.pca.org/event/fly-away-to-payson/
LOCATION:Crosswinds Airport Payson\, 800 W. Airport Road\, Payson\, Arizona
CATEGORIES:Driving Tour,Social Events
ATTACH;FMTTYPE=image/png:https://azm.pca.org/wp-content/uploads/2025/05/Crosswinds-Airport-graphic-photo-featured-image.png
END:VEVENT
END:VCALENDAR