BEGIN:VCALENDAR
VERSION:2.0
PRODID:-//Arizona Mountain Region : Porsche Club of America - ECPv6.15.20//NONSGML v1.0//EN
CALSCALE:GREGORIAN
METHOD:PUBLISH
X-ORIGINAL-URL:https://azm.pca.org
X-WR-CALDESC:Events for Arizona Mountain Region : Porsche Club of America
REFRESH-INTERVAL;VALUE=DURATION:PT1H
X-Robots-Tag:noindex
X-PUBLISHED-TTL:PT1H
BEGIN:VTIMEZONE
TZID:UTC
BEGIN:STANDARD
TZOFFSETFROM:+0000
TZOFFSETTO:+0000
TZNAME:UTC
DTSTART:20240101T000000
END:STANDARD
END:VTIMEZONE
BEGIN:VEVENT
DTSTART;TZID=UTC:20250828T150000
DTEND;TZID=UTC:20250828T190000
DTSTAMP:20260420T110451
CREATED:20250614T214758Z
LAST-MODIFIED:20250816T150226Z
UID:10000124-1756393200-1756407600@azm.pca.org
SUMMARY:Private Wine Tasting and Dinner - Cove Mesa Vineyards (and special photos too)
DESCRIPTION:A terrific afternoon and evening is in store on Thursday\, August 28th at the Award Winning Cove Mesa Vineyard tasting room in Cornville.  AND\, a special OPTIONAL pre-event afternoon photo shoot at Bell Rock viewpoint in the Village of Oak Creek.  NOTE special instructions on Checkout page to select Lasagna Dinner; Traditional\, Vegan or Gluten Free and type in the “Note to Seller” section on Checkout Page) \nA MINIMUM of 20 participants are needed for the Region to hold this event at Cove Mesa Vineyards Tasting Room.  IF 20 participants are not secured by August 25th\, a backup restaurant will be utilized in the Cottonwood/Cornville area.  For those wanting to spend the night in the area\, see below for the room block in Cottonwood. \nCove Mesa Wine Tasting and Dinner Details all included in the price of $75: \n\nMeal includes\n\nIndividual meat and cheese or vegan charcuterie plate with crackers\nSalad and bread\nLasagna (Gluten Free and Vegan lasagna options available)\nApple Blossom or Lava Cake for desert (both include ice cream)\n\n\nWine includes\n\nTwo White wine tastings – 2 oz. each tasting\nTwo Red wine tastings – 2 oz. each tasting\n\n\nNOTE:  Option for dinner WITHOUT wine at $60 available\nPrices include all taxes AND gratuity\nCove Mesa staff will provide information on all wines served\n\n– Register HERE for $75 per person including wine (Please select Lasagna Dinner; Traditional\, Vegan or GF and type in the “Note to Seller” on Checkout page) \n– Register HERE for $60 per person WITHOUT wine. Please select Lasagna Dinner; Traditional\, Vegan or GF and type in the “Note to Seller” on Checkout page) \nTravel Time and Additional Details\n\nOPTIONAL PHOTO SHOOT: 3:00- 4:15 pm\n\nThose interested in having a photo taken with their car staged with beautiful Bell Rock in the background.  Please arrive between 3:00 and 4:15 pm at the Bell Rock Pathway Trailhead parking lot just North of the Village of Oak Creek on Hwy 179.  A photographer will be standing by to photograph you and your car.  More details will be provided via email to those that sign up.\n\n\nARRIVAL AT COVE MESA:  4:45-5:00 pm\n\nIt is approximately a 20 minute drive from Bell Rock Pathway Trailhead parking lot to the Cove Mesa Tasting room located at:  1210 S Western Dr\, Cornville\, AZ 86325 — 928-301-9909\n\n\n\n\nHOTEL BLOCK FOR THOSE STAYING OVERNIGHT \n\nCottonwood Hampton Inn:  650 W Mingus Ave\, Cottonwood\, AZ 86326 — 928-496-1001\nRoom cost is $165.11 per room\, payable at hotel\nContact Jeff Swain to secure a room at: jsracerx@protonmail.com\n\n\n\n\nOverall Contact:  E.C. Mueller at ecmueller7@gmail.com or 503-720-2238\n\nEvent Requirements\n\nPrice is $75 per person and includes tax and gratuity with wine OR $60 per person including tax and gratuity WITHOUT wine\nUtilize links to register and pay above\nDeadline to Register and pay is Monday\, August 25\nThis event requires a minimum of 20 attendees to be held by the Region at Cove Mesa Vineyards Tasting Room
URL:https://azm.pca.org/event/private-wine-tasting-and-dinner-cove-mesa-vineyards-and-special-photos-too/
LOCATION:Cove Mesa Vineyards Tasting Room\, 1210 S Western Dr\,\, Cornville\, Arizona\, 86325
CATEGORIES:Driving Tour,Social Events
ATTACH;FMTTYPE=image/png:https://azm.pca.org/wp-content/uploads/2025/05/cove-mesa-featured-picture-.png
END:VEVENT
END:VCALENDAR