BEGIN:VCALENDAR
VERSION:2.0
PRODID:-//Arizona Mountain Region : Porsche Club of America - ECPv6.15.20//NONSGML v1.0//EN
CALSCALE:GREGORIAN
METHOD:PUBLISH
X-ORIGINAL-URL:https://azm.pca.org
X-WR-CALDESC:Events for Arizona Mountain Region : Porsche Club of America
REFRESH-INTERVAL;VALUE=DURATION:PT1H
X-Robots-Tag:noindex
X-PUBLISHED-TTL:PT1H
BEGIN:VTIMEZONE
TZID:UTC
BEGIN:STANDARD
TZOFFSETFROM:+0000
TZOFFSETTO:+0000
TZNAME:UTC
DTSTART:20240101T000000
END:STANDARD
END:VTIMEZONE
BEGIN:VEVENT
DTSTART;TZID=UTC:20250315T170000
DTEND;TZID=UTC:20250315T194500
DTSTAMP:20260421T033348
CREATED:20241222T220616Z
LAST-MODIFIED:20250313T032644Z
UID:10000099-1742058000-1742067900@azm.pca.org
SUMMARY:General Membership Meeting & 7-Year Anniversary Social and Dinner
DESCRIPTION:Join us for an all-members meeting and to celebrate the 7th Anniversary of the Arizona Mountain Region.  We will dine at the new Fat Frog restaurant in Prescott.  The 2025 Club Officers and Committee Chairpersons will be introduced and a Q&A session will be held for members.  Fun\, celebrating\, and little bit of club business too.  Register HERE.  Registration ends March 14. \nDetails – Tentative Schedule\n\nSaturday March 15th: Fat Frog Restaurant\, 1721 State Route 69 Prescott\, AZ 86301\n5:00-5:30 pm:  Cocktails\, networking\, reminiscing and laughter!  (Cash Bar)\n5:30-6:30 pm: Dine\, Play & Celebrate!\n6:30- 7:45 pm: Guest Speaker Matt Crandall from Avant Garde Collection in Scottsdale\, Business meeting\, leadership introductions and member Q&A session\nRegister HERE\n\nMenu\n\nAttendees will order off the menu and pay on their own.\nSee the menu HERE\n\nActivities\n\nDoor prizes\, business meeting and Q&A session\n\nQuestions\n\nContact E.C. Mueller at ecmueller7@gmail.com or Jeff Boehm at jeffandbj@gmail.com\n\n \n 
URL:https://azm.pca.org/event/general-membership-meeting-7-year-anniversary-social-and-dinner/
LOCATION:The Fat Frog Restaurant\, 1721 AZ-69\, Prescott\, Arizona\, 86301
CATEGORIES:Social Events
ATTACH;FMTTYPE=image/jpeg:https://azm.pca.org/wp-content/uploads/2024/12/AMR-7th-Anniv-flyer-featured-image.jpg
END:VEVENT
END:VCALENDAR