BEGIN:VCALENDAR
VERSION:2.0
PRODID:-//Arizona Mountain Region : Porsche Club of America - ECPv6.15.20//NONSGML v1.0//EN
CALSCALE:GREGORIAN
METHOD:PUBLISH
X-ORIGINAL-URL:https://azm.pca.org
X-WR-CALDESC:Events for Arizona Mountain Region : Porsche Club of America
REFRESH-INTERVAL;VALUE=DURATION:PT1H
X-Robots-Tag:noindex
X-PUBLISHED-TTL:PT1H
BEGIN:VTIMEZONE
TZID:UTC
BEGIN:STANDARD
TZOFFSETFROM:+0000
TZOFFSETTO:+0000
TZNAME:UTC
DTSTART:20230101T000000
END:STANDARD
END:VTIMEZONE
BEGIN:VEVENT
DTSTART;TZID=UTC:20240602T090000
DTEND;TZID=UTC:20240602T150000
DTSTAMP:20260421T161548
CREATED:20240228T185525Z
LAST-MODIFIED:20240501T035422Z
UID:10000076-1717318800-1717340400@azm.pca.org
SUMMARY:RESCHEDULED: AZM Region Spring Autocross
DESCRIPTION:[vc_row][vc_column][vc_column_text]THIS EVENT HAS BEEN RESCHEDULED.  Last year was AWESOME so Arizona Mountain Region is holding another Autocross!  Come out and learn the capabilities of your Porsche!  Register HERE. \nDetails\n\nSunday June 2\, 2024\n\nCourse Setup: 6:00 am\nRegistration opens: 7:30 am\nCars on course: 9:00 am – 3:00 pm\n\n\nFindlay Center parking lot\, Prescott\, AZ\n$75.00 per participant and includes lunch\nInstructors will be available for first-time drivers! Loaner helmets will also be available if you don’t have your own. Helmets must be rated Snell 2010  or newer.\nLearn more about Autocrossing!  Click HERE for an overview\nRegister HERE\n\nWhat to Expect\n\nThis is a great opportunity to experience the fun of auto crossing your Porsche. Instructors will be available for first-time drivers! Loaner helmets will also be available if you don’t have your own.  All the details can be found on the registration link once it becomes available.  Be sure to register once the link is available because there is limited space for only 40 drivers.\n\nQuestions & Volunteering for set-up\, operations & breakdown\n\nLorraine Friendman: friedmanlorrainem@gmail.com & Jeff Boehm: jeffandbj@gmail.com\n\n \n[/vc_column_text][/vc_column][/vc_row]
URL:https://azm.pca.org/event/azm-region-spring-autocross/
LOCATION:Findlay Toyota Center\, 3201 North Main\, Prescott Valley\, AZ
CATEGORIES:Autocross
ATTACH;FMTTYPE=image/jpeg:https://azm.pca.org/wp-content/uploads/2024/02/AX-photo-for-website.jpg
END:VEVENT
END:VCALENDAR