BEGIN:VCALENDAR
VERSION:2.0
PRODID:-//Arizona Mountain Region : Porsche Club of America - ECPv6.15.20//NONSGML v1.0//EN
CALSCALE:GREGORIAN
METHOD:PUBLISH
X-ORIGINAL-URL:https://azm.pca.org
X-WR-CALDESC:Events for Arizona Mountain Region : Porsche Club of America
REFRESH-INTERVAL;VALUE=DURATION:PT1H
X-Robots-Tag:noindex
X-PUBLISHED-TTL:PT1H
BEGIN:VTIMEZONE
TZID:UTC
BEGIN:STANDARD
TZOFFSETFROM:+0000
TZOFFSETTO:+0000
TZNAME:UTC
DTSTART:20220101T000000
END:STANDARD
END:VTIMEZONE
BEGIN:VEVENT
DTSTART;TZID=UTC:20230128T070000
DTEND;TZID=UTC:20230128T110000
DTSTAMP:20260423T143123
CREATED:20221129T012524Z
LAST-MODIFIED:20230123T221328Z
UID:10000003-1674889200-1674903600@azm.pca.org
SUMMARY:Sedona Cruz-In\, January
DESCRIPTION:Note: This is a not an official AZM Region-PCA event. Event is listed as a courtesy for AZM members. \nThe Sedona Cruz-In is similar to a Cars & Coffee event and happens the last Saturday of every month\, at The Collective in Sedona\, AZ.
URL:https://azm.pca.org/event/sedona-cruz-in-jan/
LOCATION:Collective Shopping Plaza\, 7000 AZ-179\, Sedona\, AZ\, 86351\, United States
CATEGORIES:Cruz-In
ATTACH;FMTTYPE=image/jpeg:https://azm.pca.org/wp-content/uploads/2022/11/The-Collective-Sedona-Arizona.jpg
END:VEVENT
END:VCALENDAR