BEGIN:VCALENDAR
VERSION:2.0
PRODID:-//Arizona Mountain Region : Porsche Club of America - ECPv6.15.20//NONSGML v1.0//EN
CALSCALE:GREGORIAN
METHOD:PUBLISH
X-ORIGINAL-URL:https://azm.pca.org
X-WR-CALDESC:Events for Arizona Mountain Region : Porsche Club of America
REFRESH-INTERVAL;VALUE=DURATION:PT1H
X-Robots-Tag:noindex
X-PUBLISHED-TTL:PT1H
BEGIN:VTIMEZONE
TZID:UTC
BEGIN:STANDARD
TZOFFSETFROM:+0000
TZOFFSETTO:+0000
TZNAME:UTC
DTSTART:20210101T000000
END:STANDARD
END:VTIMEZONE
BEGIN:VEVENT
DTSTART;TZID=UTC:20221202T170000
DTEND;TZID=UTC:20221202T220000
DTSTAMP:20260422T154516
CREATED:20221129T013027Z
LAST-MODIFIED:20221129T013357Z
UID:10000005-1670000400-1670018400@azm.pca.org
SUMMARY:Annual Holiday Par-Tee
DESCRIPTION:
URL:https://azm.pca.org/event/annual-holiday-par-tee/
LOCATION:Prescott Centennial Center\, 1989 Wineglass Drive\, Prescott\, AZ\, 86301\, United States
CATEGORIES:Holiday Party
END:VEVENT
END:VCALENDAR