BEGIN:VCALENDAR
VERSION:2.0
PRODID:-//Arizona Mountain Region : Porsche Club of America - ECPv6.15.20//NONSGML v1.0//EN
CALSCALE:GREGORIAN
METHOD:PUBLISH
X-ORIGINAL-URL:https://azm.pca.org
X-WR-CALDESC:Events for Arizona Mountain Region : Porsche Club of America
REFRESH-INTERVAL;VALUE=DURATION:PT1H
X-Robots-Tag:noindex
X-PUBLISHED-TTL:PT1H
BEGIN:VTIMEZONE
TZID:UTC
BEGIN:STANDARD
TZOFFSETFROM:+0000
TZOFFSETTO:+0000
TZNAME:UTC
DTSTART:20230101T000000
END:STANDARD
END:VTIMEZONE
BEGIN:VEVENT
DTSTART;TZID=UTC:20241214T090000
DTEND;TZID=UTC:20241214T103000
DTSTAMP:20260420T162010
CREATED:20230918T204849Z
LAST-MODIFIED:20230918T204849Z
UID:10000069-1734166800-1734172200@azm.pca.org
SUMMARY:Porsches and Pancakes
DESCRIPTION:AZM’s “Porsches and Pancakes” happens every Second Saturday of the month.\nNo registration needed…See you there.
URL:https://azm.pca.org/event/porsches-and-pancakes-24/
LOCATION:Prescott Junction Restaurant\, 1121 E Sheldon Street\, Prescott\, Arizona\, 86301\, United States
CATEGORIES:Porsches and Pancakes,Social Events
ATTACH;FMTTYPE=image/gif:https://azm.pca.org/wp-content/uploads/2023/01/Calendar-PancakesAndPorsches.gif
END:VEVENT
END:VCALENDAR