BEGIN:VCALENDAR
VERSION:2.0
PRODID:-//Arizona Mountain Region : Porsche Club of America - ECPv6.15.20//NONSGML v1.0//EN
CALSCALE:GREGORIAN
METHOD:PUBLISH
X-ORIGINAL-URL:https://azm.pca.org
X-WR-CALDESC:Events for Arizona Mountain Region : Porsche Club of America
REFRESH-INTERVAL;VALUE=DURATION:PT1H
X-Robots-Tag:noindex
X-PUBLISHED-TTL:PT1H
BEGIN:VTIMEZONE
TZID:UTC
BEGIN:STANDARD
TZOFFSETFROM:+0000
TZOFFSETTO:+0000
TZNAME:UTC
DTSTART:20230101T000000
END:STANDARD
END:VTIMEZONE
BEGIN:VEVENT
DTSTART;TZID=UTC:20241018T090000
DTEND;TZID=UTC:20241018T140000
DTSTAMP:20260419T104228
CREATED:20240902T220442Z
LAST-MODIFIED:20241016T145149Z
UID:10000095-1729242000-1729260000@azm.pca.org
SUMMARY:CANCELED: Cruise into Fall - Flagstaff Color Drive
DESCRIPTION:NOTE: This event has been CANCELED due to impeding bad weather in the Flagstaff area during this time. \nThe leaves will be turning and a drive up Oak Creek Canyon is a great place to see them.  Club members will meet in Prescott and Sedona prior to enjoying the colors followed by lunch at the Agassiz Lodge restaurant at 9\,500 feet at the Snow Bowl Base Camp in Flagstaff.   Optional gondola ride up the mountain after lunch.  Join us on Friday\, October 18.  Register HERE. \nDetails\n\nFriday\, October 18\n\nPRESCOTT MEMBERS \n\nMeet at 9:00 am at the Lindo Mexico Restaurant at Roberts Market #2 on the NORTH side of 89A.  Sign waivers and depart at 9:30 am.\n\nVERDE VALLEY/SEDONA MEMBERS \n\nMeet at 10:45 am at the Starbucks in West Sedona on the corner of 89A and Kallof Place.  Depart at 11:15 am and head to Flagstaff.  Pending traffic\, expectation is to arrive Flagstaff and the Agassiz Restuarant at 12:30 pm.\n\nFLAGSTAFF\, KINGMAN AND LAKE HAVASU MEMBERS \n\nMeet the group at the Agassiz Restaurant\n\nLunch Location \n\nAgassiz Restaurant and 9\,500′ Bar — Snow Bowl Base Campin Flagstaff\n\nWhat to Expect: \n\nThe Route: 89A up through Oak Creek Canyon to Flagstaff and then on to Snow Bowl\nNote. The PCA organized portion of the drive will end at the Agassiz Restaurant\nOrder from the menu and pay on your own.  Check out the menu HERE.\nTake optional gondola ride up the mountain.  Information on the ride HERE.\nRegister HERE.\n\n\nQuestions: \n\nContact Peggy Vicioso at peggyvicioso@gmail.com
URL:https://azm.pca.org/event/cruise-into-fall-flagstaff-color-drive/
LOCATION:Agassiz Lodge Restaurant & 9\,500′ Bar\, 9500 N Snow Bowl Rd\, Flagstaff\, AZ\, 86001
CATEGORIES:Driving Tour,Social Events
ATTACH;FMTTYPE=image/jpeg:https://azm.pca.org/wp-content/uploads/2024/09/Cruise-in-Fall-2024-small.jpg
END:VEVENT
END:VCALENDAR